BEGIN:VCALENDAR
VERSION:2.0
PRODID:-//Sabre//Sabre VObject 4.5.8//EN
CALSCALE:GREGORIAN
BEGIN:VEVENT
UID:sabre-vobject-33e218b9-65d4-4aa5-ac86-8d872f73e9ca
DTSTAMP:20260424T131710Z
SUMMARY:Students vs Parents Basketball Game
DESCRIPTION:
X-ALT-DESC:FMTTYPE=text/html:<!DOCTYPE HTML PUBLIC "-//W3C//DTD HTML 3.2//E
 N"><HTML></HTML>
CREATED;TZID=America/New_York:20260226T091224
URL;VALUE=URI:https://westpoint.armymwr.com/calendar/event
DTSTART;TZID=America/New_York:20260305T160000
DTEND;TZID=America/New_York:20260305T170000
SEQUENCE:0
END:VEVENT
END:VCALENDAR
