BEGIN:VCALENDAR
VERSION:2.0
PRODID:-//Sabre//Sabre VObject 4.5.8//EN
CALSCALE:GREGORIAN
BEGIN:VEVENT
UID:sabre-vobject-0a03ccf2-a1c7-4be7-bac0-e4dc26a9c3e5
DTSTAMP:20260423T182428Z
SUMMARY:March Movie Night
DESCRIPTION:
X-ALT-DESC:FMTTYPE=text/html:<!DOCTYPE HTML PUBLIC "-//W3C//DTD HTML 3.2//E
 N"><HTML></HTML>
CREATED;TZID=America/New_York:20260226T120636
URL;VALUE=URI:https://westpoint.armymwr.com/calendar/event
DTSTART;TZID=America/New_York:20260320T183000
DTEND;TZID=America/New_York:20260320T193000
SEQUENCE:0
END:VEVENT
END:VCALENDAR
