BEGIN:VCALENDAR
VERSION:2.0
PRODID:-//Sabre//Sabre VObject 4.5.8//EN
CALSCALE:GREGORIAN
BEGIN:VEVENT
UID:sabre-vobject-75375c9b-a989-485f-82b6-fd76b9189a9f
DTSTAMP:20260425T224447Z
SUMMARY:Staff & Faculty Noontime Basketball League
DESCRIPTION:
X-ALT-DESC:FMTTYPE=text/html:<!DOCTYPE HTML PUBLIC "-//W3C//DTD HTML 3.2//E
 N"><HTML></HTML>
CREATED;TZID=America/New_York:20190226T084234
URL;VALUE=URI:https://westpoint.armymwr.com/calendar/event
DTSTART;TZID=America/New_York:20181022T121500
DTEND;TZID=America/New_York:20181022T130000
SEQUENCE:0
END:VEVENT
END:VCALENDAR
