BEGIN:VCALENDAR
VERSION:2.0
PRODID:-//Sabre//Sabre VObject 4.5.8//EN
CALSCALE:GREGORIAN
BEGIN:VEVENT
UID:sabre-vobject-9a4098b8-cef0-4e11-a982-decc542aedc4
DTSTAMP:20260426T023946Z
SUMMARY:MWR General Skate Program
DESCRIPTION:
X-ALT-DESC:FMTTYPE=text/html:<!DOCTYPE HTML PUBLIC "-//W3C//DTD HTML 3.2//E
 N"><HTML></HTML>
CREATED;TZID=America/New_York:20190129T082044
URL;VALUE=URI:https://westpoint.armymwr.com/calendar/event
DTSTART;TZID=America/New_York:20181104T153000
DTEND;TZID=America/New_York:20181104T171500
SEQUENCE:0
END:VEVENT
BEGIN:VEVENT
UID:sabre-vobject-9a364a91-6a54-4cec-b192-73b103475ae5
DTSTAMP:20260426T023946Z
SUMMARY:MWR General Skate Program
DESCRIPTION:
X-ALT-DESC:FMTTYPE=text/html:<!DOCTYPE HTML PUBLIC "-//W3C//DTD HTML 3.2//E
 N"><HTML></HTML>
CREATED;TZID=America/New_York:20190129T082044
URL;VALUE=URI:https://westpoint.armymwr.com/calendar/event
DTSTART;TZID=America/New_York:20181111T153000
DTEND;TZID=America/New_York:20181111T171500
SEQUENCE:1
END:VEVENT
BEGIN:VEVENT
UID:sabre-vobject-807568c1-5922-4699-b640-2d2be2bf1477
DTSTAMP:20260426T023946Z
SUMMARY:MWR General Skate Program
DESCRIPTION:
X-ALT-DESC:FMTTYPE=text/html:<!DOCTYPE HTML PUBLIC "-//W3C//DTD HTML 3.2//E
 N"><HTML></HTML>
CREATED;TZID=America/New_York:20190129T082044
URL;VALUE=URI:https://westpoint.armymwr.com/calendar/event
DTSTART;TZID=America/New_York:20181125T153000
DTEND;TZID=America/New_York:20181125T171500
SEQUENCE:2
END:VEVENT
BEGIN:VEVENT
UID:sabre-vobject-af08dcec-3119-4c56-aaa2-b2a33112f710
DTSTAMP:20260426T023946Z
SUMMARY:MWR General Skate Program
DESCRIPTION:
X-ALT-DESC:FMTTYPE=text/html:<!DOCTYPE HTML PUBLIC "-//W3C//DTD HTML 3.2//E
 N"><HTML></HTML>
CREATED;TZID=America/New_York:20190129T082044
URL;VALUE=URI:https://westpoint.armymwr.com/calendar/event
DTSTART;TZID=America/New_York:20181202T153000
DTEND;TZID=America/New_York:20181202T171500
SEQUENCE:3
END:VEVENT
BEGIN:VEVENT
UID:sabre-vobject-010502ca-a6e2-485f-8deb-adaff1b28ac9
DTSTAMP:20260426T023946Z
SUMMARY:MWR General Skate Program
DESCRIPTION:
X-ALT-DESC:FMTTYPE=text/html:<!DOCTYPE HTML PUBLIC "-//W3C//DTD HTML 3.2//E
 N"><HTML></HTML>
CREATED;TZID=America/New_York:20190129T082044
URL;VALUE=URI:https://westpoint.armymwr.com/calendar/event
DTSTART;TZID=America/New_York:20181209T153000
DTEND;TZID=America/New_York:20181209T171500
SEQUENCE:4
END:VEVENT
BEGIN:VEVENT
UID:sabre-vobject-ce5cefc0-8353-4c0a-8fa8-d0bddcaf2608
DTSTAMP:20260426T023946Z
SUMMARY:MWR General Skate Program
DESCRIPTION:
X-ALT-DESC:FMTTYPE=text/html:<!DOCTYPE HTML PUBLIC "-//W3C//DTD HTML 3.2//E
 N"><HTML></HTML>
CREATED;TZID=America/New_York:20190129T082044
URL;VALUE=URI:https://westpoint.armymwr.com/calendar/event
DTSTART;TZID=America/New_York:20181228T123000
DTEND;TZID=America/New_York:20181228T141500
SEQUENCE:5
END:VEVENT
BEGIN:VEVENT
UID:sabre-vobject-77c5cf02-462a-42c3-910d-eae7ca0c478e
DTSTAMP:20260426T023946Z
SUMMARY:MWR General Skate Program
DESCRIPTION:
X-ALT-DESC:FMTTYPE=text/html:<!DOCTYPE HTML PUBLIC "-//W3C//DTD HTML 3.2//E
 N"><HTML></HTML>
CREATED;TZID=America/New_York:20190129T082044
URL;VALUE=URI:https://westpoint.armymwr.com/calendar/event
DTSTART;TZID=America/New_York:20181230T153000
DTEND;TZID=America/New_York:20181230T171500
SEQUENCE:6
END:VEVENT
BEGIN:VEVENT
UID:sabre-vobject-066d8f14-66b5-4c57-8671-6987297d9204
DTSTAMP:20260426T023946Z
SUMMARY:MWR General Skate Program
DESCRIPTION:
X-ALT-DESC:FMTTYPE=text/html:<!DOCTYPE HTML PUBLIC "-//W3C//DTD HTML 3.2//E
 N"><HTML></HTML>
CREATED;TZID=America/New_York:20190129T082044
URL;VALUE=URI:https://westpoint.armymwr.com/calendar/event
DTSTART;TZID=America/New_York:20190127T153000
DTEND;TZID=America/New_York:20190127T171500
SEQUENCE:7
END:VEVENT
BEGIN:VEVENT
UID:sabre-vobject-5e20d8f8-f1cd-40fe-9376-6c05c74e8bab
DTSTAMP:20260426T023946Z
SUMMARY:MWR General Skate Program
DESCRIPTION:
X-ALT-DESC:FMTTYPE=text/html:<!DOCTYPE HTML PUBLIC "-//W3C//DTD HTML 3.2//E
 N"><HTML></HTML>
CREATED;TZID=America/New_York:20190129T082044
URL;VALUE=URI:https://westpoint.armymwr.com/calendar/event
DTSTART;TZID=America/New_York:20190203T153000
DTEND;TZID=America/New_York:20190203T171500
SEQUENCE:8
END:VEVENT
BEGIN:VEVENT
UID:sabre-vobject-77ae97a0-bf49-42f9-9285-48b166948b02
DTSTAMP:20260426T023946Z
SUMMARY:MWR General Skate Program
DESCRIPTION:
X-ALT-DESC:FMTTYPE=text/html:<!DOCTYPE HTML PUBLIC "-//W3C//DTD HTML 3.2//E
 N"><HTML></HTML>
CREATED;TZID=America/New_York:20190129T082044
URL;VALUE=URI:https://westpoint.armymwr.com/calendar/event
DTSTART;TZID=America/New_York:20190217T153000
DTEND;TZID=America/New_York:20190217T171500
SEQUENCE:9
END:VEVENT
BEGIN:VEVENT
UID:sabre-vobject-0e380b86-7384-48e0-b03f-b71e65e8a759
DTSTAMP:20260426T023946Z
SUMMARY:MWR General Skate Program
DESCRIPTION:
X-ALT-DESC:FMTTYPE=text/html:<!DOCTYPE HTML PUBLIC "-//W3C//DTD HTML 3.2//E
 N"><HTML></HTML>
CREATED;TZID=America/New_York:20190129T082044
URL;VALUE=URI:https://westpoint.armymwr.com/calendar/event
DTSTART;TZID=America/New_York:20190303T153000
DTEND;TZID=America/New_York:20190303T171500
SEQUENCE:10
END:VEVENT
BEGIN:VEVENT
UID:sabre-vobject-2eb2cdaa-2d2d-47c4-8696-84f7cf57b13a
DTSTAMP:20260426T023946Z
SUMMARY:MWR General Skate Program
DESCRIPTION:
X-ALT-DESC:FMTTYPE=text/html:<!DOCTYPE HTML PUBLIC "-//W3C//DTD HTML 3.2//E
 N"><HTML></HTML>
CREATED;TZID=America/New_York:20190129T082044
URL;VALUE=URI:https://westpoint.armymwr.com/calendar/event
DTSTART;TZID=America/New_York:20190120T133000
DTEND;TZID=America/New_York:20190120T171500
SEQUENCE:11
END:VEVENT
BEGIN:VEVENT
UID:sabre-vobject-6398c7b4-ed73-4ce9-8db7-1325147b810a
DTSTAMP:20260426T023946Z
SUMMARY:MWR General Skate Program
DESCRIPTION:
X-ALT-DESC:FMTTYPE=text/html:<!DOCTYPE HTML PUBLIC "-//W3C//DTD HTML 3.2//E
 N"><HTML></HTML>
CREATED;TZID=America/New_York:20190129T082044
URL;VALUE=URI:https://westpoint.armymwr.com/calendar/event
DTSTART;TZID=America/New_York:20190224T133000
DTEND;TZID=America/New_York:20190224T171500
SEQUENCE:12
END:VEVENT
END:VCALENDAR
