BEGIN:VCALENDAR
VERSION:2.0
PRODID:-//Sabre//Sabre VObject 4.5.8//EN
CALSCALE:GREGORIAN
BEGIN:VEVENT
UID:sabre-vobject-9092be26-c6f5-417c-9496-b6ac3beed22c
DTSTAMP:20260425T121509Z
SUMMARY:No School (DoDEA Only)
DESCRIPTION:
X-ALT-DESC:FMTTYPE=text/html:<!DOCTYPE HTML PUBLIC "-//W3C//DTD HTML 3.2//E
 N"><HTML></HTML>
CREATED;TZID=America/New_York:20181016T121715
URL;VALUE=URI:https://westpoint.armymwr.com/calendar/event
DTSTART;TZID=America/New_York:20190102T120000
DTEND;TZID=America/New_York:20190102T130000
SEQUENCE:0
END:VEVENT
BEGIN:VEVENT
UID:sabre-vobject-2ebf0a94-2eca-42be-8740-aacf0d981061
DTSTAMP:20260425T121509Z
SUMMARY:No School (DoDEA Only)
DESCRIPTION:
X-ALT-DESC:FMTTYPE=text/html:<!DOCTYPE HTML PUBLIC "-//W3C//DTD HTML 3.2//E
 N"><HTML></HTML>
CREATED;TZID=America/New_York:20181016T121715
URL;VALUE=URI:https://westpoint.armymwr.com/calendar/event
DTSTART;TZID=America/New_York:20190103T120000
DTEND;TZID=America/New_York:20190103T130000
SEQUENCE:1
END:VEVENT
BEGIN:VEVENT
UID:sabre-vobject-03317efc-2366-4110-a6e8-0fc59964e01e
DTSTAMP:20260425T121509Z
SUMMARY:No School (DoDEA Only)
DESCRIPTION:
X-ALT-DESC:FMTTYPE=text/html:<!DOCTYPE HTML PUBLIC "-//W3C//DTD HTML 3.2//E
 N"><HTML></HTML>
CREATED;TZID=America/New_York:20181016T121715
URL;VALUE=URI:https://westpoint.armymwr.com/calendar/event
DTSTART;TZID=America/New_York:20190104T120000
DTEND;TZID=America/New_York:20190104T130000
SEQUENCE:2
END:VEVENT
END:VCALENDAR
