BEGIN:VCALENDAR
VERSION:2.0
PRODID:-//Sabre//Sabre VObject 4.5.8//EN
CALSCALE:GREGORIAN
BEGIN:VEVENT
UID:sabre-vobject-3ae60441-841d-435d-b09c-704e921bc92d
DTSTAMP:20260426T040020Z
SUMMARY:Breakfast with Santa
DESCRIPTION:
X-ALT-DESC:FMTTYPE=text/html:<!DOCTYPE HTML PUBLIC "-//W3C//DTD HTML 3.2//E
 N"><HTML></HTML>
CREATED;TZID=America/New_York:20181108T085833
URL;VALUE=URI:https://westpoint.armymwr.com/calendar/event
DTSTART;TZID=America/New_York:20181202T090000
DTEND;TZID=America/New_York:20181202T120000
SEQUENCE:0
END:VEVENT
END:VCALENDAR
