BEGIN:VCALENDAR
VERSION:2.0
PRODID:-//Sabre//Sabre VObject 4.5.8//EN
CALSCALE:GREGORIAN
BEGIN:VEVENT
UID:sabre-vobject-5534bdb4-9a19-4f30-b862-48ff05d9d69c
DTSTAMP:20260426T041927Z
SUMMARY:Ski Lesson Program Registration
DESCRIPTION:Sign-up for Ski Lessons\n
X-ALT-DESC:FMTTYPE=text/html:<!DOCTYPE HTML PUBLIC "-//W3C//DTD HTML 3.2//E
 N"><HTML><p>Sign-up for Ski Lessons</p>\n</HTML>
CREATED;TZID=America/New_York:20181126T090731
URL;VALUE=URI:https://westpoint.armymwr.com/calendar/event
DTSTART;TZID=America/New_York:20181203T000000
DTEND;TZID=America/New_York:20181203T235959
SEQUENCE:0
END:VEVENT
BEGIN:VEVENT
UID:sabre-vobject-f9855cfa-a6f0-4ade-bbea-bff65979f868
DTSTAMP:20260426T041927Z
SUMMARY:Ski Lesson Program Registration
DESCRIPTION:Sign-up for Ski Lessons\n
X-ALT-DESC:FMTTYPE=text/html:<!DOCTYPE HTML PUBLIC "-//W3C//DTD HTML 3.2//E
 N"><HTML><p>Sign-up for Ski Lessons</p>\n</HTML>
CREATED;TZID=America/New_York:20181126T090731
URL;VALUE=URI:https://westpoint.armymwr.com/calendar/event
DTSTART;TZID=America/New_York:20181205T000000
DTEND;TZID=America/New_York:20181205T235959
SEQUENCE:1
END:VEVENT
BEGIN:VEVENT
UID:sabre-vobject-b949a1da-f867-4521-af7f-8b5565e943a2
DTSTAMP:20260426T041927Z
SUMMARY:Ski Lesson Program Registration
DESCRIPTION:Sign-up for Ski Lessons\n
X-ALT-DESC:FMTTYPE=text/html:<!DOCTYPE HTML PUBLIC "-//W3C//DTD HTML 3.2//E
 N"><HTML><p>Sign-up for Ski Lessons</p>\n</HTML>
CREATED;TZID=America/New_York:20181126T090731
URL;VALUE=URI:https://westpoint.armymwr.com/calendar/event
DTSTART;TZID=America/New_York:20181217T000000
DTEND;TZID=America/New_York:20181217T235959
SEQUENCE:2
END:VEVENT
END:VCALENDAR
