BEGIN:VCALENDAR
VERSION:2.0
PRODID:-//Sabre//Sabre VObject 4.5.8//EN
CALSCALE:GREGORIAN
BEGIN:VEVENT
UID:sabre-vobject-1136166c-8f9e-4597-8f1f-27417d70e819
DTSTAMP:20260426T012922Z
SUMMARY:Family Craft Time
DESCRIPTION:Make some Holiday gifts/ornaments with your family\n
X-ALT-DESC:FMTTYPE=text/html:<!DOCTYPE HTML PUBLIC "-//W3C//DTD HTML 3.2//E
 N"><HTML><p>Make some Holiday gifts/ornaments with your family</p>\n</HTML
 >
CREATED;TZID=America/New_York:20181207T084144
URL;VALUE=URI:https://westpoint.armymwr.com/calendar/event
DTSTART;TZID=America/New_York:20181211T110000
DTEND;TZID=America/New_York:20181211T190000
SEQUENCE:0
END:VEVENT
END:VCALENDAR
