BEGIN:VCALENDAR
VERSION:2.0
PRODID:-//Sabre//Sabre VObject 4.5.8//EN
CALSCALE:GREGORIAN
BEGIN:VEVENT
UID:sabre-vobject-8b8f42ad-b6c5-4b7d-8b93-7ea0b989d39b
DTSTAMP:20260423T205348Z
SUMMARY:BOSS trip to Six Flags
DESCRIPTION:
X-ALT-DESC:FMTTYPE=text/html:<!DOCTYPE HTML PUBLIC "-//W3C//DTD HTML 3.2//E
 N"><HTML></HTML>
CREATED;TZID=America/New_York:20210429T141740
URL;VALUE=URI:https://westpoint.armymwr.com/calendar/event
DTSTART;TZID=America/New_York:20210612T080000
DTEND;TZID=America/New_York:20210612T090000
SEQUENCE:0
END:VEVENT
END:VCALENDAR
