BEGIN:VCALENDAR
VERSION:2.0
PRODID:-//Sabre//Sabre VObject 4.5.8//EN
CALSCALE:GREGORIAN
BEGIN:VEVENT
UID:sabre-vobject-e7be2753-aed7-4663-ae7a-9ba7c5797f9d
DTSTAMP:20260422T142432Z
SUMMARY:Summer Camp at WP Arts & Crafts Center
DESCRIPTION:
X-ALT-DESC:FMTTYPE=text/html:<!DOCTYPE HTML PUBLIC "-//W3C//DTD HTML 3.2//E
 N"><HTML></HTML>
CREATED;TZID=America/New_York:20220421T140316
URL;VALUE=URI:https://westpoint.armymwr.com/calendar/event
DTSTART;TZID=America/New_York:20220628T100000
DTEND;TZID=America/New_York:20220628T120000
SEQUENCE:0
END:VEVENT
BEGIN:VEVENT
UID:sabre-vobject-2437ff55-d910-4197-9261-1ab3c4201df1
DTSTAMP:20260422T142432Z
SUMMARY:Summer Camp at WP Arts & Crafts Center
DESCRIPTION:
X-ALT-DESC:FMTTYPE=text/html:<!DOCTYPE HTML PUBLIC "-//W3C//DTD HTML 3.2//E
 N"><HTML></HTML>
CREATED;TZID=America/New_York:20220421T140316
URL;VALUE=URI:https://westpoint.armymwr.com/calendar/event
DTSTART;TZID=America/New_York:20220628T130000
DTEND;TZID=America/New_York:20220628T150000
SEQUENCE:1
END:VEVENT
BEGIN:VEVENT
UID:sabre-vobject-4c4fc286-b2c0-4051-bfca-ec2709661aab
DTSTAMP:20260422T142432Z
SUMMARY:Summer Camp at WP Arts & Crafts Center
DESCRIPTION:
X-ALT-DESC:FMTTYPE=text/html:<!DOCTYPE HTML PUBLIC "-//W3C//DTD HTML 3.2//E
 N"><HTML></HTML>
CREATED;TZID=America/New_York:20220421T140316
URL;VALUE=URI:https://westpoint.armymwr.com/calendar/event
DTSTART;TZID=America/New_York:20220628T100000
DTEND;TZID=America/New_York:20220628T120000
SEQUENCE:2
END:VEVENT
END:VCALENDAR
