BEGIN:VCALENDAR
VERSION:2.0
PRODID:-//Sabre//Sabre VObject 4.5.8//EN
CALSCALE:GREGORIAN
BEGIN:VEVENT
UID:sabre-vobject-46d941d1-e691-40c2-af60-6b224537b3de
DTSTAMP:20260424T041630Z
SUMMARY:ODR Kayak Trip to Constitution Island
DESCRIPTION:
X-ALT-DESC:FMTTYPE=text/html:<!DOCTYPE HTML PUBLIC "-//W3C//DTD HTML 3.2//E
 N"><HTML></HTML>
CREATED;TZID=America/New_York:20220603T095031
URL;VALUE=URI:https://westpoint.armymwr.com/calendar/event
DTSTART;TZID=America/New_York:20220618T090000
DTEND;TZID=America/New_York:20220618T150000
SEQUENCE:0
END:VEVENT
END:VCALENDAR
