BEGIN:VCALENDAR
VERSION:2.0
PRODID:-//Sabre//Sabre VObject 4.5.8//EN
CALSCALE:GREGORIAN
BEGIN:VEVENT
UID:sabre-vobject-b1da7c12-c2c3-451f-89a4-3735bb0fd170
DTSTAMP:20260422T083340Z
SUMMARY:A-Day Buffet
DESCRIPTION:
X-ALT-DESC:FMTTYPE=text/html:<!DOCTYPE HTML PUBLIC "-//W3C//DTD HTML 3.2//E
 N"><HTML></HTML>
CREATED;TZID=America/New_York:20220720T083550
URL;VALUE=URI:https://westpoint.armymwr.com/calendar/event
DTSTART;TZID=America/New_York:20220813T113000
DTEND;TZID=America/New_York:20220813T143000
SEQUENCE:0
END:VEVENT
END:VCALENDAR
