BEGIN:VCALENDAR
VERSION:2.0
PRODID:-//Sabre//Sabre VObject 4.5.8//EN
CALSCALE:GREGORIAN
BEGIN:VEVENT
UID:sabre-vobject-7a7a7030-1720-4744-9f93-ecd0acbd080a
DTSTAMP:20260421T052605Z
SUMMARY:Conquer the Vic 2022
DESCRIPTION:
X-ALT-DESC:FMTTYPE=text/html:<!DOCTYPE HTML PUBLIC "-//W3C//DTD HTML 3.2//E
 N"><HTML></HTML>
CREATED;TZID=America/New_York:20220906T121016
URL;VALUE=URI:https://westpoint.armymwr.com/calendar/event
DTSTART;TZID=America/New_York:20220925T080000
DTEND;TZID=America/New_York:20220925T150000
SEQUENCE:0
END:VEVENT
END:VCALENDAR
