BEGIN:VCALENDAR
VERSION:2.0
PRODID:-//Sabre//Sabre VObject 4.5.8//EN
CALSCALE:GREGORIAN
BEGIN:VEVENT
UID:sabre-vobject-363831ed-2cfd-4ee0-a6e0-ef6901d843e0
DTSTAMP:20260421T204221Z
SUMMARY:Two Hour Cadet Only Basic Pistol Class
DESCRIPTION:
X-ALT-DESC:FMTTYPE=text/html:<!DOCTYPE HTML PUBLIC "-//W3C//DTD HTML 3.2//E
 N"><HTML></HTML>
CREATED;TZID=America/New_York:20220913T085935
URL;VALUE=URI:https://westpoint.armymwr.com/calendar/event
DTSTART;TZID=America/New_York:20220918T140000
DTEND;TZID=America/New_York:20220918T160000
SEQUENCE:0
END:VEVENT
END:VCALENDAR
