BEGIN:VCALENDAR
VERSION:2.0
PRODID:-//Sabre//Sabre VObject 4.5.8//EN
CALSCALE:GREGORIAN
BEGIN:VEVENT
UID:sabre-vobject-289a0e30-6e50-4778-a54c-8989aa4b1bdb
DTSTAMP:20260423T052147Z
SUMMARY:CYS Open Gym
DESCRIPTION:
X-ALT-DESC:FMTTYPE=text/html:<!DOCTYPE HTML PUBLIC "-//W3C//DTD HTML 3.2//E
 N"><HTML></HTML>
CREATED;TZID=America/New_York:20231109T101937
URL;VALUE=URI:https://westpoint.armymwr.com/calendar/event
DTSTART;TZID=America/New_York:20231106T160000
DTEND;TZID=America/New_York:20231122T180000
SEQUENCE:0
END:VEVENT
END:VCALENDAR
