BEGIN:VCALENDAR
VERSION:2.0
PRODID:-//Sabre//Sabre VObject 4.5.8//EN
CALSCALE:GREGORIAN
BEGIN:VEVENT
UID:sabre-vobject-de52d348-54c5-4e45-9282-cd52baac2a0d
DTSTAMP:20260423T051152Z
SUMMARY:Macy's Thanksgiving Day Parade
DESCRIPTION:
X-ALT-DESC:FMTTYPE=text/html:<!DOCTYPE HTML PUBLIC "-//W3C//DTD HTML 3.2//E
 N"><HTML></HTML>
CREATED;TZID=America/New_York:20231012T154101
URL;VALUE=URI:https://westpoint.armymwr.com/calendar/event
DTSTART;TZID=America/New_York:20231123T060000
DTEND;TZID=America/New_York:20231123T070000
SEQUENCE:0
END:VEVENT
END:VCALENDAR
