BEGIN:VCALENDAR
VERSION:2.0
PRODID:-//Sabre//Sabre VObject 4.5.8//EN
CALSCALE:GREGORIAN
BEGIN:VEVENT
UID:sabre-vobject-540cc443-2ce5-4e9d-a529-56d2a26a6a57
DTSTAMP:20260423T063851Z
SUMMARY:Mother Son Dance
DESCRIPTION:
X-ALT-DESC:FMTTYPE=text/html:<!DOCTYPE HTML PUBLIC "-//W3C//DTD HTML 3.2//E
 N"><HTML></HTML>
CREATED;TZID=America/New_York:20231120T134327
URL;VALUE=URI:https://westpoint.armymwr.com/calendar/event
DTSTART;TZID=America/New_York:20231120T133000
DTEND;TZID=America/New_York:20231120T143000
SEQUENCE:0
END:VEVENT
END:VCALENDAR
