BEGIN:VCALENDAR
VERSION:2.0
PRODID:-//Sabre//Sabre VObject 4.5.8//EN
CALSCALE:GREGORIAN
BEGIN:VEVENT
UID:sabre-vobject-6faca7e3-4711-4298-afdc-f35b65208c3e
DTSTAMP:20260422T131557Z
SUMMARY:EFMP Coffee Hour Trip to New York City
DESCRIPTION:
X-ALT-DESC:FMTTYPE=text/html:<!DOCTYPE HTML PUBLIC "-//W3C//DTD HTML 3.2//E
 N"><HTML></HTML>
CREATED;TZID=America/New_York:20231201T104446
URL;VALUE=URI:https://westpoint.armymwr.com/calendar/event
DTSTART;TZID=America/New_York:20231214T093000
DTEND;TZID=America/New_York:20231214T103000
SEQUENCE:0
END:VEVENT
END:VCALENDAR
