BEGIN:VCALENDAR
VERSION:2.0
PRODID:-//Sabre//Sabre VObject 4.5.8//EN
CALSCALE:GREGORIAN
BEGIN:VEVENT
UID:sabre-vobject-0a663d1a-fc09-4e8b-99d2-b80420d5e93d
DTSTAMP:20260422T115445Z
SUMMARY:Morgan Farm Winter Riding Day Camp
DESCRIPTION:
X-ALT-DESC:FMTTYPE=text/html:<!DOCTYPE HTML PUBLIC "-//W3C//DTD HTML 3.2//E
 N"><HTML></HTML>
CREATED;TZID=America/New_York:20231201T131913
URL;VALUE=URI:https://westpoint.armymwr.com/calendar/event
DTSTART;TZID=America/New_York:20231218T100000
DTEND;TZID=America/New_York:20231218T150000
SEQUENCE:0
END:VEVENT
END:VCALENDAR
