BEGIN:VCALENDAR
VERSION:2.0
PRODID:-//Sabre//Sabre VObject 4.5.8//EN
CALSCALE:GREGORIAN
BEGIN:VEVENT
UID:sabre-vobject-4c90b373-9b43-46cd-a282-b6e0619932a8
DTSTAMP:20260421T232246Z
SUMMARY:CYS Homeschool Field Trip Tour: Jefferson Hall
DESCRIPTION:
X-ALT-DESC:FMTTYPE=text/html:<!DOCTYPE HTML PUBLIC "-//W3C//DTD HTML 3.2//E
 N"><HTML></HTML>
CREATED;TZID=America/New_York:20240103T113253
URL;VALUE=URI:https://westpoint.armymwr.com/calendar/event
DTSTART;TZID=America/New_York:20240222T095000
DTEND;TZID=America/New_York:20240222T105000
SEQUENCE:0
END:VEVENT
BEGIN:VEVENT
UID:sabre-vobject-e727397e-7272-48ab-b250-30a2186a564a
DTSTAMP:20260421T232246Z
SUMMARY:CYS Homeschool Field Trip Tour: Jefferson Hall
DESCRIPTION:
X-ALT-DESC:FMTTYPE=text/html:<!DOCTYPE HTML PUBLIC "-//W3C//DTD HTML 3.2//E
 N"><HTML></HTML>
CREATED;TZID=America/New_York:20240103T113253
URL;VALUE=URI:https://westpoint.armymwr.com/calendar/event
DTSTART;TZID=America/New_York:20240222T105000
DTEND;TZID=America/New_York:20240222T120000
SEQUENCE:1
END:VEVENT
END:VCALENDAR
