BEGIN:VCALENDAR
VERSION:2.0
PRODID:-//Sabre//Sabre VObject 4.5.8//EN
CALSCALE:GREGORIAN
BEGIN:VEVENT
UID:sabre-vobject-b62f0827-7135-4a79-8ace-6f01725e27a3
DTSTAMP:20260423T094128Z
SUMMARY:Howl-O-Ween Yappy Hour
DESCRIPTION:
X-ALT-DESC:FMTTYPE=text/html:<!DOCTYPE HTML PUBLIC "-//W3C//DTD HTML 3.2//E
 N"><HTML></HTML>
CREATED;TZID=America/New_York:20240927T134440
URL;VALUE=URI:https://westpoint.armymwr.com/calendar/event
DTSTART;TZID=America/New_York:20241024T160000
DTEND;TZID=America/New_York:20241024T180000
SEQUENCE:0
END:VEVENT
END:VCALENDAR
