BEGIN:VCALENDAR
VERSION:2.0
PRODID:-//Sabre//Sabre VObject 4.5.8//EN
CALSCALE:GREGORIAN
BEGIN:VEVENT
UID:sabre-vobject-6efda2e2-6827-42e8-9d09-bd0aeda1fc81
DTSTAMP:20260422T154804Z
SUMMARY:Yappy Hour
DESCRIPTION:
X-ALT-DESC:FMTTYPE=text/html:<!DOCTYPE HTML PUBLIC "-//W3C//DTD HTML 3.2//E
 N"><HTML></HTML>
CREATED;TZID=America/New_York:20250806T094920
URL;VALUE=URI:https://westpoint.armymwr.com/calendar/event
DTSTART;TZID=America/New_York:20250626T160000
DTEND;TZID=America/New_York:20250626T180000
SEQUENCE:0
END:VEVENT
BEGIN:VEVENT
UID:sabre-vobject-e412f338-7958-4273-a175-8eae75821eb1
DTSTAMP:20260422T154804Z
SUMMARY:Yappy Hour
DESCRIPTION:
X-ALT-DESC:FMTTYPE=text/html:<!DOCTYPE HTML PUBLIC "-//W3C//DTD HTML 3.2//E
 N"><HTML></HTML>
CREATED;TZID=America/New_York:20250806T094920
URL;VALUE=URI:https://westpoint.armymwr.com/calendar/event
DTSTART;TZID=America/New_York:20250724T160000
DTEND;TZID=America/New_York:20250724T180000
SEQUENCE:1
END:VEVENT
BEGIN:VEVENT
UID:sabre-vobject-77daac87-6cdd-4274-b5de-6ca8a1e66e9f
DTSTAMP:20260422T154804Z
SUMMARY:Yappy Hour
DESCRIPTION:
X-ALT-DESC:FMTTYPE=text/html:<!DOCTYPE HTML PUBLIC "-//W3C//DTD HTML 3.2//E
 N"><HTML></HTML>
CREATED;TZID=America/New_York:20250806T094920
URL;VALUE=URI:https://westpoint.armymwr.com/calendar/event
DTSTART;TZID=America/New_York:20250807T160000
DTEND;TZID=America/New_York:20250807T180000
SEQUENCE:2
END:VEVENT
END:VCALENDAR
