BEGIN:VCALENDAR
VERSION:2.0
PRODID:-//Sabre//Sabre VObject 4.5.8//EN
CALSCALE:GREGORIAN
BEGIN:VEVENT
UID:sabre-vobject-74f4a23f-b380-4912-ac9a-180fd9f94945
DTSTAMP:20260422T030004Z
SUMMARY:Intro to Kayaking at Lake Frederick
DESCRIPTION:
X-ALT-DESC:FMTTYPE=text/html:<!DOCTYPE HTML PUBLIC "-//W3C//DTD HTML 3.2//E
 N"><HTML></HTML>
CREATED;TZID=America/New_York:20250506T133602
URL;VALUE=URI:https://westpoint.armymwr.com/calendar/event
DTSTART;TZID=America/New_York:20250628T100000
DTEND;TZID=America/New_York:20250628T120000
SEQUENCE:0
END:VEVENT
END:VCALENDAR
